1.5625
0
0
-1.5625
123575.987024
483822.784732
