1.5625
0
0
-1.5625
146884.171024
378302.878035
