1.5625
0
0
-1.5625
220094.778024
529558.804953
