1.5625
0
0
-1.5625
166364.286024
454095.646622
