1.5625
0
0
-1.5625
218823.353024
570012.593059
