1.5625
0
0
-1.5625
248316.031024
549042.343815
