1.5625
0
0
-1.5625
245378.504024
546298.792524
