1.5625
0
0
-1.5625
175151.204024
543697.924067
