1.5625
0
0
-1.5625
183399.776024
498818.524772
