1.5625
0
0
-1.5625
200210.037024
451979.201913
