1.5625
0
0
-1.5625
209353.180024
553929.725374
