1.5625
0
0
-1.5625
252094.573024
540392.138335
