1.5625
0
0
-1.5625
180710.633024
522199.546776
