1.5625
0
0
-1.5625
189685.848024
310711.137961
