1.5625
0
0
-1.5625
240151.444024
601527.405669
