1.5625
0
0
-1.5625
149689.105024
435803.349413
