1.5625
0
0
-1.5625
165454.332024
483050.463976
