1.5625
0
0
-1.5625
133344.612024
388295.001433
