1.5625
0
0
-1.5625
156719.639024
529304.894795
