1.5625
0
0
-1.5625
64779.1770236
445095.618201
