1.5625
0
0
-1.5625
178266.386024
589871.487008
