1.5625
0
0
-1.5625
88006.9450236
409237.26548
