1.5625
0
0
-1.5625
167942.975024
562180.624594
