1.5625
0
0
-1.5625
161818.209024
580056.034618
