1.5625
0
0
-1.5625
208426.190024
571352.392098
