1.5625
0
0
-1.5625
238045.743024
587655.383283
