1.5625
0
0
-1.5625
243463.775024
557840.746339
