1.5625
0
0
-1.5625
163645.555024
368746.474173
