1.5625
0
0
-1.5625
238734.001024
564316.464055
