1.5625
0
0
-1.5625
239476.163024
531725.106476
