1.5625
0
0
-1.5625
235018.758024
531672.455217
