1.5625
0
0
-1.5625
158240.706024
420577.594579
