1.5625
0
0
-1.5625
199375.406024
397202.348209
