1.5625
0
0
-1.5625
194258.438024
517390.856618
