1.5625
0
0
-1.5625
193346.003024
415278.342583
