1.5625
0
0
-1.5625
207475.649024
586477.770461
