1.5625
0
0
-1.5625
178495.036024
328567.661728
