1.5625
0
0
-1.5625
221401.001024
503013.045972
