1.5625
0
0
-1.5625
55205.0860236
431187.980661
