1.5625
0
0
-1.5625
48290.4160236
394472.09061
