1.5625
0
0
-1.5625
177900.360024
562598.703791
