1.5625
0
0
-1.5625
127721.659024
394692.847579
