1.5625
0
0
-1.5625
122596.397024
430980.658374
