1.5625
0
0
-1.5625
104011.758024
446470.472638
