1.5625
0
0
-1.5625
73676.3970236
424967.398638
