1.5625
0
0
-1.5625
62373.4760236
375024.993976
