1.5625
0
0
-1.5625
190096.151024
377746.98039
