1.5625
0
0
-1.5625
135499.148024
462582.813559
