1.5625
0
0
-1.5625
188621.994024
425128.298323
