1.5625
0
0
-1.5625
105505.397024
527154.639559
